BEGIN:VCALENDAR
VERSION:2.0
PRODID:-//Furrin Group - ECPv6.15.20//NONSGML v1.0//EN
CALSCALE:GREGORIAN
METHOD:PUBLISH
X-ORIGINAL-URL:https://furrin.org
X-WR-CALDESC:Events for Furrin Group
REFRESH-INTERVAL;VALUE=DURATION:PT1H
X-Robots-Tag:noindex
X-PUBLISHED-TTL:PT1H
BEGIN:VTIMEZONE
TZID:America/New_York
BEGIN:DAYLIGHT
TZOFFSETFROM:-0500
TZOFFSETTO:-0400
TZNAME:EDT
DTSTART:20240310T070000
END:DAYLIGHT
BEGIN:STANDARD
TZOFFSETFROM:-0400
TZOFFSETTO:-0500
TZNAME:EST
DTSTART:20241103T060000
END:STANDARD
BEGIN:DAYLIGHT
TZOFFSETFROM:-0500
TZOFFSETTO:-0400
TZNAME:EDT
DTSTART:20250309T070000
END:DAYLIGHT
BEGIN:STANDARD
TZOFFSETFROM:-0400
TZOFFSETTO:-0500
TZNAME:EST
DTSTART:20251102T060000
END:STANDARD
BEGIN:DAYLIGHT
TZOFFSETFROM:-0500
TZOFFSETTO:-0400
TZNAME:EDT
DTSTART:20260308T070000
END:DAYLIGHT
BEGIN:STANDARD
TZOFFSETFROM:-0400
TZOFFSETTO:-0500
TZNAME:EST
DTSTART:20261101T060000
END:STANDARD
END:VTIMEZONE
BEGIN:VEVENT
DTSTART;TZID=America/New_York:20251118T180000
DTEND;TZID=America/New_York:20251118T200000
DTSTAMP:20260420T192830
CREATED:20250731T011955Z
LAST-MODIFIED:20250731T011955Z
UID:3228-1763488800-1763496000@furrin.org
SUMMARY:FG Monthly General Meeting
DESCRIPTION:Monthly club meeting\, all are welcome to join us.
URL:https://furrin.org/event/fg-monthly-general-meeting-4/
LOCATION:Jackson Street Hall\, 921 Jackson St NW\, Grand Rapids\, MI\, 49504\, United States
CATEGORIES:Meeting
ATTACH;FMTTYPE=image/jpeg:https://furrin.org/wp-content/uploads/2025/07/504025093_10227029092303352_8216295785967905098_n.jpg
ORGANIZER;CN="Furrin Group":MAILTO:furringroup@gmail.com
END:VEVENT
END:VCALENDAR