BEGIN:VCALENDAR
VERSION:2.0
PRODID:-//Furrin Group - ECPv6.15.20//NONSGML v1.0//EN
CALSCALE:GREGORIAN
METHOD:PUBLISH
X-WR-CALNAME:Furrin Group
X-ORIGINAL-URL:https://furrin.org
X-WR-CALDESC:Events for Furrin Group
REFRESH-INTERVAL;VALUE=DURATION:PT1H
X-Robots-Tag:noindex
X-PUBLISHED-TTL:PT1H
BEGIN:VTIMEZONE
TZID:America/New_York
BEGIN:DAYLIGHT
TZOFFSETFROM:-0500
TZOFFSETTO:-0400
TZNAME:EDT
DTSTART:20230312T070000
END:DAYLIGHT
BEGIN:STANDARD
TZOFFSETFROM:-0400
TZOFFSETTO:-0500
TZNAME:EST
DTSTART:20231105T060000
END:STANDARD
BEGIN:DAYLIGHT
TZOFFSETFROM:-0500
TZOFFSETTO:-0400
TZNAME:EDT
DTSTART:20240310T070000
END:DAYLIGHT
BEGIN:STANDARD
TZOFFSETFROM:-0400
TZOFFSETTO:-0500
TZNAME:EST
DTSTART:20241103T060000
END:STANDARD
BEGIN:DAYLIGHT
TZOFFSETFROM:-0500
TZOFFSETTO:-0400
TZNAME:EDT
DTSTART:20250309T070000
END:DAYLIGHT
BEGIN:STANDARD
TZOFFSETFROM:-0400
TZOFFSETTO:-0500
TZNAME:EST
DTSTART:20251102T060000
END:STANDARD
END:VTIMEZONE
BEGIN:VEVENT
DTSTART;TZID=America/New_York:20240929T080000
DTEND;TZID=America/New_York:20240929T170000
DTSTAMP:20260421T191527
CREATED:20240831T021509Z
LAST-MODIFIED:20240831T022340Z
UID:3023-1727596800-1727629200@furrin.org
SUMMARY:TC Autocross #4
DESCRIPTION:Autocross at Turtle Creek Stadium in Traverse City!
URL:https://furrin.org/event/tc-autocross-4/
LOCATION:Turtle Creek Stadium\, 333 Stadium Dr.\, Traverse City\, MI\, 49685\, United States
CATEGORIES:Autocross
ORGANIZER;CN="Furrin Group":MAILTO:furringroup@gmail.com
END:VEVENT
BEGIN:VEVENT
DTSTART;VALUE=DATE:20240929
DTEND;VALUE=DATE:20240930
DTSTAMP:20260421T191527
CREATED:20240319T101946Z
LAST-MODIFIED:20240319T101946Z
UID:2915-1727568000-1727654399@furrin.org
SUMMARY:South Bend Autocross #7
DESCRIPTION:
URL:https://furrin.org/event/south-bend-autocross-7/
LOCATION:Tire Rack\, 7101 Vorden Pkwy\, South Bend\, IN\, 46628\, United States
ORGANIZER;CN="South Bend Region SCCA":MAILTO:Information@sbrscca.org
END:VEVENT
BEGIN:VEVENT
DTSTART;TZID=America/New_York:20240928T080000
DTEND;TZID=America/New_York:20240928T170000
DTSTAMP:20260421T191527
CREATED:20240831T021418Z
LAST-MODIFIED:20240831T022353Z
UID:3021-1727510400-1727542800@furrin.org
SUMMARY:TC Autocross #3
DESCRIPTION:Autocross at Turtle Creek Stadium in Traverse City.
URL:https://furrin.org/event/tc-autocross-3/
LOCATION:Turtle Creek Stadium\, 333 Stadium Dr.\, Traverse City\, MI\, 49685\, United States
CATEGORIES:Autocross
ORGANIZER;CN="Furrin Group":MAILTO:furringroup@gmail.com
END:VEVENT
BEGIN:VEVENT
DTSTART;TZID=America/New_York:20240922T000000
DTEND;TZID=America/New_York:20240922T000000
DTSTAMP:20260421T191527
CREATED:20240314T022034Z
LAST-MODIFIED:20240314T022034Z
UID:2903-1726963200-1726963200@furrin.org
SUMMARY:BMW CCA Autocross
DESCRIPTION:Autocross at Tire Rack
URL:https://furrin.org/event/bmw-cca-autocross-6/
LOCATION:Tire Rack\, 7101 Vorden Pkwy\, South Bend\, IN\, 46628\, United States
CATEGORIES:Autocross
ORGANIZER;CN="Michiana BMW Club":MAILTO:michiana@bmwcca.org
END:VEVENT
BEGIN:VEVENT
DTSTART;TZID=America/New_York:20240921T000000
DTEND;TZID=America/New_York:20240921T000000
DTSTAMP:20260421T191527
CREATED:20240314T022034Z
LAST-MODIFIED:20240314T022034Z
UID:2902-1726876800-1726876800@furrin.org
SUMMARY:BMW CCA Autocross (tentative)
DESCRIPTION:Autocross at Tire Rack
URL:https://furrin.org/event/bmw-cca-autocross-tentative/
LOCATION:Tire Rack\, 7101 Vorden Pkwy\, South Bend\, IN\, 46628\, United States
CATEGORIES:Autocross
ORGANIZER;CN="Michiana BMW Club":MAILTO:michiana@bmwcca.org
END:VEVENT
BEGIN:VEVENT
DTSTART;TZID=America/New_York:20240908T000000
DTEND;TZID=America/New_York:20240908T000000
DTSTAMP:20260421T191527
CREATED:20240314T022033Z
LAST-MODIFIED:20240314T022033Z
UID:2901-1725753600-1725753600@furrin.org
SUMMARY:BMW CCA Autocross
DESCRIPTION:Autocross at Tire Rack
URL:https://furrin.org/event/bmw-cca-autocross-5/
LOCATION:Tire Rack\, 7101 Vorden Pkwy\, South Bend\, IN\, 46628\, United States
CATEGORIES:Autocross
ORGANIZER;CN="Michiana BMW Club":MAILTO:michiana@bmwcca.org
END:VEVENT
BEGIN:VEVENT
DTSTART;TZID=America/New_York:20240902T000000
DTEND;TZID=America/New_York:20240902T000000
DTSTAMP:20260421T191527
CREATED:20240313T010749Z
LAST-MODIFIED:20240313T010749Z
UID:2877-1725235200-1725235200@furrin.org
SUMMARY:WMR SCCA Autocross #1
DESCRIPTION:Grattan Autocross
URL:https://furrin.org/event/wmr-scca-autocross-1/
LOCATION:Grattan Raceway\, 7201 Lessiter Rd\, Belding\, MI\, 48809\, United States
CATEGORIES:Autocross
END:VEVENT
BEGIN:VEVENT
DTSTART;VALUE=DATE:20240825
DTEND;VALUE=DATE:20240826
DTSTAMP:20260421T191527
CREATED:20240319T101858Z
LAST-MODIFIED:20240319T101858Z
UID:2913-1724544000-1724630399@furrin.org
SUMMARY:South Bend Autocross #6
DESCRIPTION:
URL:https://furrin.org/event/south-bend-autocross-6/
LOCATION:Tire Rack\, 7101 Vorden Pkwy\, South Bend\, IN\, 46628\, United States
ORGANIZER;CN="South Bend Region SCCA":MAILTO:Information@sbrscca.org
END:VEVENT
BEGIN:VEVENT
DTSTART;TZID=America/New_York:20240817T000000
DTEND;TZID=America/New_York:20240818T000000
DTSTAMP:20260421T191527
CREATED:20240313T010749Z
LAST-MODIFIED:20240313T010749Z
UID:2876-1723852800-1723939200@furrin.org
SUMMARY:WSCC Autocross #1
DESCRIPTION:Autocross in Ludington\, MI
URL:https://furrin.org/event/wscc-autocross-1/
LOCATION:West Shore Community College\, 3000 N. Stiles Rd.\, Scottville\, MI\, 49454\, United States
CATEGORIES:Autocross
ORGANIZER;CN="Furrin Group":MAILTO:furringroup@gmail.com
END:VEVENT
BEGIN:VEVENT
DTSTART;TZID=America/New_York:20240811T000000
DTEND;TZID=America/New_York:20240811T000000
DTSTAMP:20260421T191527
CREATED:20240314T022033Z
LAST-MODIFIED:20240314T022033Z
UID:2900-1723334400-1723334400@furrin.org
SUMMARY:BMW CCA Autocross
DESCRIPTION:Autocross at Tire Rack
URL:https://furrin.org/event/bmw-cca-autocross-4/
LOCATION:Tire Rack\, 7101 Vorden Pkwy\, South Bend\, IN\, 46628\, United States
CATEGORIES:Autocross
ORGANIZER;CN="Michiana BMW Club":MAILTO:michiana@bmwcca.org
END:VEVENT
BEGIN:VEVENT
DTSTART;TZID=America/New_York:20240809T000000
DTEND;TZID=America/New_York:20240811T000000
DTSTAMP:20260421T191527
CREATED:20240313T010749Z
LAST-MODIFIED:20240313T010749Z
UID:2875-1723161600-1723334400@furrin.org
SUMMARY:VSCDA Au Grattan
DESCRIPTION:Vintage Racing
URL:https://furrin.org/event/vscda-au-grattan/
LOCATION:Grattan Raceway\, 7201 Lessiter Rd\, Belding\, MI\, 48809\, United States
CATEGORIES:Road Racing
END:VEVENT
BEGIN:VEVENT
DTSTART;TZID=America/New_York:20240721T000000
DTEND;TZID=America/New_York:20240721T000000
DTSTAMP:20260421T191527
CREATED:20240314T022032Z
LAST-MODIFIED:20240314T022032Z
UID:2899-1721520000-1721520000@furrin.org
SUMMARY:BMW CCA Autocross
DESCRIPTION:Autocross at Tire Rack
URL:https://furrin.org/event/bmw-cca-autocross-3/
LOCATION:Tire Rack\, 7101 Vorden Pkwy\, South Bend\, IN\, 46628\, United States
CATEGORIES:Autocross
ORGANIZER;CN="Michiana BMW Club":MAILTO:michiana@bmwcca.org
END:VEVENT
BEGIN:VEVENT
DTSTART;TZID=America/New_York:20240720T000000
DTEND;TZID=America/New_York:20240720T000000
DTSTAMP:20260421T191527
CREATED:20240313T010749Z
LAST-MODIFIED:20240313T010749Z
UID:2874-1721433600-1721433600@furrin.org
SUMMARY:FG Summer Picnic
DESCRIPTION:Monthly Meeting
URL:https://furrin.org/event/fg-summer-picnic/
LOCATION:Johnson Park\, 2600 Wilson Ave\, Walker\, MI\, 49534\, United States
CATEGORIES:Meeting
ORGANIZER;CN="Furrin Group":MAILTO:furringroup@gmail.com
END:VEVENT
BEGIN:VEVENT
DTSTART;TZID=America/New_York:20240630T000000
DTEND;TZID=America/New_York:20240630T000000
DTSTAMP:20260421T191527
CREATED:20240314T022032Z
LAST-MODIFIED:20240314T022032Z
UID:2898-1719705600-1719705600@furrin.org
SUMMARY:BMW CCA Autocross
DESCRIPTION:Autocross at Tire Rack
URL:https://furrin.org/event/bmw-cca-autocross-2/
LOCATION:Tire Rack\, 7101 Vorden Pkwy\, South Bend\, IN\, 46628\, United States
CATEGORIES:Autocross
ORGANIZER;CN="Michiana BMW Club":MAILTO:michiana@bmwcca.org
END:VEVENT
BEGIN:VEVENT
DTSTART;TZID=America/New_York:20240618T190000
DTEND;TZID=America/New_York:20240618T210000
DTSTAMP:20260421T191527
CREATED:20240313T012017Z
LAST-MODIFIED:20240604T022846Z
UID:2891-1718737200-1718744400@furrin.org
SUMMARY:FG General Meeting
DESCRIPTION:Monthly club meeting.  In person and virtual available. \nZoom Meeting link
URL:https://furrin.org/event/fg-general-meeting-4/
LOCATION:Mill Creek Tavern\, 3874 W River Dr NE\, Comstock Park\, MI\, 49321\, United States
CATEGORIES:Meeting
ORGANIZER;CN="Furrin Group":MAILTO:furringroup@gmail.com
END:VEVENT
BEGIN:VEVENT
DTSTART;TZID=America/New_York:20240521T180000
DTEND;TZID=America/New_York:20240521T200000
DTSTAMP:20260421T191527
CREATED:20240313T012017Z
LAST-MODIFIED:20240313T012017Z
UID:2890-1716314400-1716321600@furrin.org
SUMMARY:FG General Meeting
DESCRIPTION:Monthly club meeting
URL:https://furrin.org/event/fg-general-meeting-3/
LOCATION:Mill Creek Tavern\, 3874 W River Dr NE\, Comstock Park\, MI\, 49321\, United States
CATEGORIES:Meeting
ORGANIZER;CN="Furrin Group":MAILTO:furringroup@gmail.com
END:VEVENT
BEGIN:VEVENT
DTSTART;TZID=America/New_York:20240519T070000
DTEND;TZID=America/New_York:20240519T170000
DTSTAMP:20260421T191527
CREATED:20240313T010747Z
LAST-MODIFIED:20240313T010747Z
UID:2869-1716102000-1716138000@furrin.org
SUMMARY:TC Autocross #2
DESCRIPTION:Autocross in Traverse City
URL:https://furrin.org/event/tc-autocross-2-2/
LOCATION:Turtle Creek Stadium\, 333 Stadium Dr.\, Traverse City\, MI\, 49685\, United States
CATEGORIES:Autocross
ORGANIZER;CN="Furrin Group":MAILTO:furringroup@gmail.com
END:VEVENT
BEGIN:VEVENT
DTSTART;VALUE=DATE:20240519
DTEND;VALUE=DATE:20240520
DTSTAMP:20260421T191527
CREATED:20240319T101756Z
LAST-MODIFIED:20240319T101756Z
UID:2911-1716076800-1716163199@furrin.org
SUMMARY:South Bend Autocross #2
DESCRIPTION:
URL:https://furrin.org/event/south-bend-autocross-2/
LOCATION:Tire Rack\, 7101 Vorden Pkwy\, South Bend\, IN\, 46628\, United States
ORGANIZER;CN="South Bend Region SCCA":MAILTO:Information@sbrscca.org
END:VEVENT
BEGIN:VEVENT
DTSTART;TZID=America/New_York:20240518T070000
DTEND;TZID=America/New_York:20240518T170000
DTSTAMP:20260421T191527
CREATED:20240313T010747Z
LAST-MODIFIED:20240313T010747Z
UID:2868-1716015600-1716051600@furrin.org
SUMMARY:TC Autocross #1
DESCRIPTION:Autocross in Traverse City
URL:https://furrin.org/event/tc-autocross-1/
LOCATION:Turtle Creek Stadium\, 333 Stadium Dr.\, Traverse City\, MI\, 49685\, United States
CATEGORIES:Autocross
ORGANIZER;CN="Furrin Group":MAILTO:furringroup@gmail.com
END:VEVENT
BEGIN:VEVENT
DTSTART;TZID=America/New_York:20240518T000000
DTEND;TZID=America/New_York:20240518T000000
DTSTAMP:20260421T191527
CREATED:20240314T022032Z
LAST-MODIFIED:20240314T022032Z
UID:2897-1715990400-1715990400@furrin.org
SUMMARY:BMW CCA Autocross
DESCRIPTION:Autocross at Tire Rack
URL:https://furrin.org/event/bmw-cca-autocross/
LOCATION:Tire Rack\, 7101 Vorden Pkwy\, South Bend\, IN\, 46628\, United States
CATEGORIES:Autocross
ORGANIZER;CN="Michiana BMW Club":MAILTO:michiana@bmwcca.org
END:VEVENT
BEGIN:VEVENT
DTSTART;TZID=America/New_York:20240502T000000
DTEND;TZID=America/New_York:20240505T000000
DTSTAMP:20260421T191527
CREATED:20240313T010747Z
LAST-MODIFIED:20240313T010747Z
UID:2872-1714608000-1714867200@furrin.org
SUMMARY:VSCDA Spring Brake
DESCRIPTION:Vintage Racing
URL:https://furrin.org/event/vscda-spring-brake/
LOCATION:Gingerman Raceway\, 61414 Co Rd 388\, South Haven\, MI\, 49090\, United States
CATEGORIES:Road Racing
END:VEVENT
BEGIN:VEVENT
DTSTART;VALUE=DATE:20240428
DTEND;VALUE=DATE:20240429
DTSTAMP:20260421T191527
CREATED:20240319T101438Z
LAST-MODIFIED:20240319T101438Z
UID:2907-1714262400-1714348799@furrin.org
SUMMARY:South Bend Autocross #1
DESCRIPTION:
URL:https://furrin.org/event/south-bend-autocross-1/
LOCATION:Tire Rack\, 7101 Vorden Pkwy\, South Bend\, IN\, 46628\, United States
ORGANIZER;CN="South Bend Region SCCA":MAILTO:Information@sbrscca.org
END:VEVENT
END:VCALENDAR