BEGIN:VCALENDAR
VERSION:2.0
PRODID:-//Furrin Group - ECPv6.15.20//NONSGML v1.0//EN
CALSCALE:GREGORIAN
METHOD:PUBLISH
X-ORIGINAL-URL:https://furrin.org
X-WR-CALDESC:Events for Furrin Group
REFRESH-INTERVAL;VALUE=DURATION:PT1H
X-Robots-Tag:noindex
X-PUBLISHED-TTL:PT1H
BEGIN:VTIMEZONE
TZID:America/New_York
BEGIN:DAYLIGHT
TZOFFSETFROM:-0500
TZOFFSETTO:-0400
TZNAME:EDT
DTSTART:20250309T070000
END:DAYLIGHT
BEGIN:STANDARD
TZOFFSETFROM:-0400
TZOFFSETTO:-0500
TZNAME:EST
DTSTART:20251102T060000
END:STANDARD
BEGIN:DAYLIGHT
TZOFFSETFROM:-0500
TZOFFSETTO:-0400
TZNAME:EDT
DTSTART:20260308T070000
END:DAYLIGHT
BEGIN:STANDARD
TZOFFSETFROM:-0400
TZOFFSETTO:-0500
TZNAME:EST
DTSTART:20261101T060000
END:STANDARD
BEGIN:DAYLIGHT
TZOFFSETFROM:-0500
TZOFFSETTO:-0400
TZNAME:EDT
DTSTART:20270314T070000
END:DAYLIGHT
BEGIN:STANDARD
TZOFFSETFROM:-0400
TZOFFSETTO:-0500
TZNAME:EST
DTSTART:20271107T060000
END:STANDARD
END:VTIMEZONE
BEGIN:VEVENT
DTSTART;TZID=America/New_York:20260606T070000
DTEND;TZID=America/New_York:20260606T180000
DTSTAMP:20260421T160438
CREATED:20260420T005941Z
LAST-MODIFIED:20260420T005941Z
UID:3612-1780729200-1780768800@furrin.org
SUMMARY:GVSU Autocross School
DESCRIPTION:Autocross in Allendale\, MI
URL:https://furrin.org/event/gvsu-autocross-school/
LOCATION:Grand Valley State University\, 1 Campus Dr\, Allendale\, MI\, 49401\, United States
CATEGORIES:Autocross
ORGANIZER;CN="Furrin Group":MAILTO:furringroup@gmail.com
END:VEVENT
BEGIN:VEVENT
DTSTART;TZID=America/New_York:20260607T070000
DTEND;TZID=America/New_York:20260607T180000
DTSTAMP:20260421T160438
CREATED:20260420T005941Z
LAST-MODIFIED:20260420T013438Z
UID:3613-1780815600-1780855200@furrin.org
SUMMARY:GVSU Autocross #1
DESCRIPTION:Autocross in Allendale\, MI
URL:https://furrin.org/event/gvsu-autocross-school-2/
LOCATION:Grand Valley State University\, 1 Campus Dr\, Allendale\, MI\, 49401\, United States
CATEGORIES:Autocross
ORGANIZER;CN="Furrin Group":MAILTO:furringroup@gmail.com
END:VEVENT
BEGIN:VEVENT
DTSTART;TZID=America/New_York:20260614T000000
DTEND;TZID=America/New_York:20260614T000000
DTSTAMP:20260421T160438
CREATED:20260420T005942Z
LAST-MODIFIED:20260420T005942Z
UID:3618-1781395200-1781395200@furrin.org
SUMMARY:SBR SCCA Autocross
DESCRIPTION:Autocross at Tire Rack
URL:https://furrin.org/event/sbr-scca-autocross-9/
LOCATION:Tire Rack\, 7101 Vorden Pkwy\, South Bend\, IN\, 46628\, United States
CATEGORIES:Autocross
ORGANIZER;CN="South Bend Region SCCA":MAILTO:Information@sbrscca.org
END:VEVENT
BEGIN:VEVENT
DTSTART;TZID=America/New_York:20260616T180000
DTEND;TZID=America/New_York:20260616T200000
DTSTAMP:20260421T160438
CREATED:20260311T015219Z
LAST-MODIFIED:20260311T015219Z
UID:3587-1781632800-1781640000@furrin.org
SUMMARY:FG General Meeting
DESCRIPTION:Monthly club meeting
URL:https://furrin.org/event/fg-general-meeting-12/
LOCATION:Jackson Street Hall\, 921 Jackson St NW\, Grand Rapids\, MI\, 49504\, United States
CATEGORIES:Meeting
ORGANIZER;CN="Furrin Group":MAILTO:furringroup@gmail.com
END:VEVENT
BEGIN:VEVENT
DTSTART;TZID=America/New_York:20260619T000000
DTEND;TZID=America/New_York:20260621T000000
DTSTAMP:20260421T160438
CREATED:20260420T005942Z
LAST-MODIFIED:20260420T005942Z
UID:3619-1781827200-1782000000@furrin.org
SUMMARY:LSR SCCA Autocross
DESCRIPTION:Autocross at Tire Rack
URL:https://furrin.org/event/lsr-scca-autocross/
LOCATION:Kinross\, Kinross Charter Township\, MI\, 49752\, United States
CATEGORIES:Autocross
END:VEVENT
BEGIN:VEVENT
DTSTART;TZID=America/New_York:20260711T070000
DTEND;TZID=America/New_York:20260711T180000
DTSTAMP:20260421T160438
CREATED:20260420T005941Z
LAST-MODIFIED:20260420T013526Z
UID:3614-1783753200-1783792800@furrin.org
SUMMARY:GVSU Autocross #2
DESCRIPTION:Autocross in Allendale\, MI
URL:https://furrin.org/event/gvsu-autocross-1-2/
LOCATION:Grand Valley State University\, 1 Campus Dr\, Allendale\, MI\, 49401\, United States
CATEGORIES:Autocross
ORGANIZER;CN="Furrin Group":MAILTO:furringroup@gmail.com
END:VEVENT
BEGIN:VEVENT
DTSTART;TZID=America/New_York:20260712T000000
DTEND;TZID=America/New_York:20260712T000000
DTSTAMP:20260421T160438
CREATED:20260420T005957Z
LAST-MODIFIED:20260420T005957Z
UID:3620-1783814400-1783814400@furrin.org
SUMMARY:SBR SCCA Autocross
DESCRIPTION:Autocross at Tire Rack
URL:https://furrin.org/event/sbr-scca-autocross-10/
LOCATION:Tire Rack\, 7101 Vorden Pkwy\, South Bend\, IN\, 46628\, United States
CATEGORIES:Autocross
ORGANIZER;CN="South Bend Region SCCA":MAILTO:Information@sbrscca.org
END:VEVENT
BEGIN:VEVENT
DTSTART;TZID=America/New_York:20260712T070000
DTEND;TZID=America/New_York:20260712T180000
DTSTAMP:20260421T160438
CREATED:20260420T005942Z
LAST-MODIFIED:20260420T013459Z
UID:3615-1783839600-1783879200@furrin.org
SUMMARY:GVSU Autocross #3
DESCRIPTION:Autocross in Allendale\, MI
URL:https://furrin.org/event/gvsu-autocross-2-2/
LOCATION:Grand Valley State University\, 1 Campus Dr\, Allendale\, MI\, 49401\, United States
CATEGORIES:Autocross
ORGANIZER;CN="Furrin Group":MAILTO:furringroup@gmail.com
END:VEVENT
BEGIN:VEVENT
DTSTART;TZID=America/New_York:20260718T110000
DTEND;TZID=America/New_York:20260718T170000
DTSTAMP:20260421T160438
CREATED:20260311T021431Z
LAST-MODIFIED:20260420T002450Z
UID:3594-1784372400-1784394000@furrin.org
SUMMARY:FG A Grand Tour
DESCRIPTION:TSD Rally
URL:https://furrin.org/event/fg-a-grand-tour/
LOCATION:Jackson Street Hall\, 921 Jackson St NW\, Grand Rapids\, MI\, 49504\, United States
CATEGORIES:Rally
ORGANIZER;CN="Furrin Group":MAILTO:furringroup@gmail.com
END:VEVENT
BEGIN:VEVENT
DTSTART;TZID=America/New_York:20260725T160000
DTEND;TZID=America/New_York:20260725T220000
DTSTAMP:20260421T160438
CREATED:20260311T021430Z
LAST-MODIFIED:20260311T021430Z
UID:3592-1784995200-1785016800@furrin.org
SUMMARY:FG Summer Picnic
DESCRIPTION:Summer Picnic/Social
URL:https://furrin.org/event/fg-summer-picnic-2/
LOCATION:Godwin Mercado\, 301 36th St SW\, Wyoming\, MI\, 49509\, United States
CATEGORIES:Meeting
ORGANIZER;CN="Furrin Group":MAILTO:furringroup@gmail.com
END:VEVENT
BEGIN:VEVENT
DTSTART;TZID=America/New_York:20260808T070000
DTEND;TZID=America/New_York:20260808T180000
DTSTAMP:20260421T160438
CREATED:20260420T005941Z
LAST-MODIFIED:20260420T005941Z
UID:3610-1786172400-1786212000@furrin.org
SUMMARY:WSCC Autocross #1
DESCRIPTION:Autocross in Ludington\, MI
URL:https://furrin.org/event/wscc-autocross-1-3/
LOCATION:West Shore Community College\, 3000 N. Stiles Rd.\, Scottville\, MI\, 49454\, United States
CATEGORIES:Autocross
ORGANIZER;CN="Furrin Group":MAILTO:furringroup@gmail.com
END:VEVENT
BEGIN:VEVENT
DTSTART;TZID=America/New_York:20260809T070000
DTEND;TZID=America/New_York:20260809T180000
DTSTAMP:20260421T160438
CREATED:20260420T005941Z
LAST-MODIFIED:20260420T005941Z
UID:3611-1786258800-1786298400@furrin.org
SUMMARY:WSCC Autocross #2
DESCRIPTION:Autocross in Ludington\, MI
URL:https://furrin.org/event/wscc-autocross-2-2/
LOCATION:West Shore Community College\, 3000 N. Stiles Rd.\, Scottville\, MI\, 49454\, United States
CATEGORIES:Autocross
ORGANIZER;CN="Furrin Group":MAILTO:furringroup@gmail.com
END:VEVENT
BEGIN:VEVENT
DTSTART;TZID=America/New_York:20260814T000000
DTEND;TZID=America/New_York:20260816T000000
DTSTAMP:20260421T160438
CREATED:20260311T015218Z
LAST-MODIFIED:20260311T015218Z
UID:3581-1786665600-1786838400@furrin.org
SUMMARY:VSCDA Au Grattan
DESCRIPTION:Vintage Racing
URL:https://furrin.org/event/vscda-au-grattan-3/
LOCATION:Grattan Raceway\, 7201 Lessiter Rd\, Belding\, MI\, 48809\, United States
CATEGORIES:Road Racing
END:VEVENT
BEGIN:VEVENT
DTSTART;TZID=America/New_York:20260815T000000
DTEND;TZID=America/New_York:20260816T000000
DTSTAMP:20260421T160438
CREATED:20260420T005957Z
LAST-MODIFIED:20260420T005957Z
UID:3621-1786752000-1786838400@furrin.org
SUMMARY:SBR SCCA Autocross
DESCRIPTION:Autocross at Tire Rack
URL:https://furrin.org/event/sbr-scca-autocross-11/
LOCATION:Grissom AFB\, 1000 W\, Hoosier Blvd\, Peru\, IN\, 46970\, United States
CATEGORIES:Autocross
ORGANIZER;CN="South Bend Region SCCA":MAILTO:Information@sbrscca.org
END:VEVENT
BEGIN:VEVENT
DTSTART;TZID=America/New_York:20260822T000000
DTEND;TZID=America/New_York:20260823T000000
DTSTAMP:20260421T160438
CREATED:20260420T005957Z
LAST-MODIFIED:20260420T005957Z
UID:3622-1787356800-1787443200@furrin.org
SUMMARY:LSR SCCA Autocross
DESCRIPTION:Autocross at Tire Rack
URL:https://furrin.org/event/lsr-scca-autocross-2/
LOCATION:Kinross\, Kinross Charter Township\, MI\, 49752\, United States
CATEGORIES:Autocross
END:VEVENT
BEGIN:VEVENT
DTSTART;TZID=America/New_York:20260907T000000
DTEND;TZID=America/New_York:20260907T000000
DTSTAMP:20260421T160438
CREATED:20260311T015218Z
LAST-MODIFIED:20260311T015218Z
UID:3582-1788739200-1788739200@furrin.org
SUMMARY:WMR SCCA Track Sprint #1
DESCRIPTION:Grattan Track Sprint
URL:https://furrin.org/event/wmr-scca-track-sprint-1/
LOCATION:Grattan Raceway\, 7201 Lessiter Rd\, Belding\, MI\, 48809\, United States
CATEGORIES:Autocross
END:VEVENT
BEGIN:VEVENT
DTSTART;TZID=America/New_York:20260927T000000
DTEND;TZID=America/New_York:20260927T000000
DTSTAMP:20260421T160438
CREATED:20260420T005957Z
LAST-MODIFIED:20260420T005957Z
UID:3623-1790467200-1790467200@furrin.org
SUMMARY:SBR SCCA Autocross
DESCRIPTION:Autocross at Tire Rack
URL:https://furrin.org/event/sbr-scca-autocross-12/
LOCATION:Tire Rack\, 7101 Vorden Pkwy\, South Bend\, IN\, 46628\, United States
CATEGORIES:Autocross
ORGANIZER;CN="South Bend Region SCCA":MAILTO:Information@sbrscca.org
END:VEVENT
BEGIN:VEVENT
DTSTART;TZID=America/New_York:20261011T000000
DTEND;TZID=America/New_York:20261011T000000
DTSTAMP:20260421T160438
CREATED:20260420T005957Z
LAST-MODIFIED:20260420T005957Z
UID:3624-1791676800-1791676800@furrin.org
SUMMARY:SBR SCCA Autocross
DESCRIPTION:Autocross at Tire Rack
URL:https://furrin.org/event/sbr-scca-autocross-13/
LOCATION:Tire Rack\, 7101 Vorden Pkwy\, South Bend\, IN\, 46628\, United States
CATEGORIES:Autocross
ORGANIZER;CN="South Bend Region SCCA":MAILTO:Information@sbrscca.org
END:VEVENT
BEGIN:VEVENT
DTSTART;TZID=America/New_York:20261025T000000
DTEND;TZID=America/New_York:20261025T000000
DTSTAMP:20260421T160438
CREATED:20260311T015219Z
LAST-MODIFIED:20260311T015219Z
UID:3583-1792886400-1792886400@furrin.org
SUMMARY:WMR SCCA Track Sprint #2
DESCRIPTION:Grattan Track Sprint
URL:https://furrin.org/event/wmr-scca-track-sprint-2/
LOCATION:Grattan Raceway\, 7201 Lessiter Rd\, Belding\, MI\, 48809\, United States
CATEGORIES:Autocross
END:VEVENT
END:VCALENDAR