BEGIN:VCALENDAR
VERSION:2.0
PRODID:-//Furrin Group - ECPv6.15.20//NONSGML v1.0//EN
CALSCALE:GREGORIAN
METHOD:PUBLISH
X-WR-CALNAME:Furrin Group
X-ORIGINAL-URL:https://furrin.org
X-WR-CALDESC:Events for Furrin Group
REFRESH-INTERVAL;VALUE=DURATION:PT1H
X-Robots-Tag:noindex
X-PUBLISHED-TTL:PT1H
BEGIN:VTIMEZONE
TZID:America/New_York
BEGIN:DAYLIGHT
TZOFFSETFROM:-0500
TZOFFSETTO:-0400
TZNAME:EDT
DTSTART:20230312T070000
END:DAYLIGHT
BEGIN:STANDARD
TZOFFSETFROM:-0400
TZOFFSETTO:-0500
TZNAME:EST
DTSTART:20231105T060000
END:STANDARD
BEGIN:DAYLIGHT
TZOFFSETFROM:-0500
TZOFFSETTO:-0400
TZNAME:EDT
DTSTART:20240310T070000
END:DAYLIGHT
BEGIN:STANDARD
TZOFFSETFROM:-0400
TZOFFSETTO:-0500
TZNAME:EST
DTSTART:20241103T060000
END:STANDARD
BEGIN:DAYLIGHT
TZOFFSETFROM:-0500
TZOFFSETTO:-0400
TZNAME:EDT
DTSTART:20250309T070000
END:DAYLIGHT
BEGIN:STANDARD
TZOFFSETFROM:-0400
TZOFFSETTO:-0500
TZNAME:EST
DTSTART:20251102T060000
END:STANDARD
END:VTIMEZONE
BEGIN:VEVENT
DTSTART;TZID=America/New_York:20240518T070000
DTEND;TZID=America/New_York:20240518T170000
DTSTAMP:20260421T204250
CREATED:20240313T010747Z
LAST-MODIFIED:20240313T010747Z
UID:2868-1716015600-1716051600@furrin.org
SUMMARY:TC Autocross #1
DESCRIPTION:Autocross in Traverse City
URL:https://furrin.org/event/tc-autocross-1/
LOCATION:Turtle Creek Stadium\, 333 Stadium Dr.\, Traverse City\, MI\, 49685\, United States
CATEGORIES:Autocross
ORGANIZER;CN="Furrin Group":MAILTO:furringroup@gmail.com
END:VEVENT
BEGIN:VEVENT
DTSTART;TZID=America/New_York:20240518T000000
DTEND;TZID=America/New_York:20240518T000000
DTSTAMP:20260421T204250
CREATED:20240314T022032Z
LAST-MODIFIED:20240314T022032Z
UID:2897-1715990400-1715990400@furrin.org
SUMMARY:BMW CCA Autocross
DESCRIPTION:Autocross at Tire Rack
URL:https://furrin.org/event/bmw-cca-autocross/
LOCATION:Tire Rack\, 7101 Vorden Pkwy\, South Bend\, IN\, 46628\, United States
CATEGORIES:Autocross
ORGANIZER;CN="Michiana BMW Club":MAILTO:michiana@bmwcca.org
END:VEVENT
BEGIN:VEVENT
DTSTART;TZID=America/New_York:20240502T000000
DTEND;TZID=America/New_York:20240505T000000
DTSTAMP:20260421T204250
CREATED:20240313T010747Z
LAST-MODIFIED:20240313T010747Z
UID:2872-1714608000-1714867200@furrin.org
SUMMARY:VSCDA Spring Brake
DESCRIPTION:Vintage Racing
URL:https://furrin.org/event/vscda-spring-brake/
LOCATION:Gingerman Raceway\, 61414 Co Rd 388\, South Haven\, MI\, 49090\, United States
CATEGORIES:Road Racing
END:VEVENT
BEGIN:VEVENT
DTSTART;VALUE=DATE:20240428
DTEND;VALUE=DATE:20240429
DTSTAMP:20260421T204250
CREATED:20240319T101438Z
LAST-MODIFIED:20240319T101438Z
UID:2907-1714262400-1714348799@furrin.org
SUMMARY:South Bend Autocross #1
DESCRIPTION:
URL:https://furrin.org/event/south-bend-autocross-1/
LOCATION:Tire Rack\, 7101 Vorden Pkwy\, South Bend\, IN\, 46628\, United States
ORGANIZER;CN="South Bend Region SCCA":MAILTO:Information@sbrscca.org
END:VEVENT
END:VCALENDAR