BEGIN:VCALENDAR
VERSION:2.0
PRODID:-//Furrin Group - ECPv6.15.20//NONSGML v1.0//EN
CALSCALE:GREGORIAN
METHOD:PUBLISH
X-ORIGINAL-URL:https://furrin.org
X-WR-CALDESC:Events for Furrin Group
REFRESH-INTERVAL;VALUE=DURATION:PT1H
X-Robots-Tag:noindex
X-PUBLISHED-TTL:PT1H
BEGIN:VTIMEZONE
TZID:America/New_York
BEGIN:DAYLIGHT
TZOFFSETFROM:-0500
TZOFFSETTO:-0400
TZNAME:EDT
DTSTART:20230312T070000
END:DAYLIGHT
BEGIN:STANDARD
TZOFFSETFROM:-0400
TZOFFSETTO:-0500
TZNAME:EST
DTSTART:20231105T060000
END:STANDARD
BEGIN:DAYLIGHT
TZOFFSETFROM:-0500
TZOFFSETTO:-0400
TZNAME:EDT
DTSTART:20240310T070000
END:DAYLIGHT
BEGIN:STANDARD
TZOFFSETFROM:-0400
TZOFFSETTO:-0500
TZNAME:EST
DTSTART:20241103T060000
END:STANDARD
BEGIN:DAYLIGHT
TZOFFSETFROM:-0500
TZOFFSETTO:-0400
TZNAME:EDT
DTSTART:20250309T070000
END:DAYLIGHT
BEGIN:STANDARD
TZOFFSETFROM:-0400
TZOFFSETTO:-0500
TZNAME:EST
DTSTART:20251102T060000
END:STANDARD
END:VTIMEZONE
BEGIN:VEVENT
DTSTART;TZID=America/New_York:20241005T120000
DTEND;TZID=America/New_York:20241005T170000
DTSTAMP:20260422T010048
CREATED:20240831T022319Z
LAST-MODIFIED:20240831T022319Z
UID:3025-1728129600-1728147600@furrin.org
SUMMARY:FG 70th Anniversary Rally
DESCRIPTION:Rally to the 70th Anniversary Party.  Three sections of the rally:  Gimmick\, TSD\, and Continental.
URL:https://furrin.org/event/fg-70th-anniversary-rally/
LOCATION:Ruehs Park\, 7602 68th St SE\, Caledonia\, MI\, 49316\, United States
CATEGORIES:Rally
END:VEVENT
BEGIN:VEVENT
DTSTART;TZID=America/New_York:20241005T160000
DTEND;TZID=America/New_York:20241005T160000
DTSTAMP:20260422T010048
CREATED:20240313T010750Z
LAST-MODIFIED:20240831T021217Z
UID:2879-1728144000-1728144000@furrin.org
SUMMARY:FG 70th Anniversary Party
DESCRIPTION:Furrin Group 70th Anniversary Party. Food\, cash bar\, stories\, and more!Doors open at 4pm\, dinner around 6pm. Socializing and stories all evening.\nRegistration is open for the 70th Anniversary party. You have four choices for payment:\nMotorSportReg – use if you have an MSR login (or want to create one). Cost is $35 + $3 fee per person + $2 MSR fee. https://msreg.com/fg70thparty\nStripe – use to pay by Credit Card. Cost is $36.40 per person ($35 + Stripe fee). https://buy.stripe.com/eVa4j00YG4A2dZ6145\nCheck – send $35 check or money order per person via USPS (or similar) toCurt Rosenstengelc/o Furrin Group1844 Pine Dr\, Traverse City\, MI 49686\nCheck or cash – at any meeting or event. $35 each person.\n\nDo not send payments to the PO Box. No one will get it by the deadline. RSVPs need to be in by September 23rd. All are welcome: current members\, previous members\, and non-members. \nSee less
URL:https://furrin.org/event/fg-70th-anniversary-party/
LOCATION:Porto Bello\, 41 Washington Ave\, Grand Haven\, MI\, 49417\, United States
CATEGORIES:Meeting
ORGANIZER;CN="Furrin Group":MAILTO:furringroup@gmail.com
END:VEVENT
BEGIN:VEVENT
DTSTART;TZID=America/New_York:20241027T000000
DTEND;TZID=America/New_York:20241027T000000
DTSTAMP:20260422T010048
CREATED:20240313T010750Z
LAST-MODIFIED:20240313T010750Z
UID:2880-1729987200-1729987200@furrin.org
SUMMARY:WMR SCCA Autocross #2
DESCRIPTION:Grattan Autocross
URL:https://furrin.org/event/wmr-scca-autocross-2/
LOCATION:Grattan Raceway\, 7201 Lessiter Rd\, Belding\, MI\, 48809\, United States
CATEGORIES:Autocross
END:VEVENT
END:VCALENDAR