BEGIN:VCALENDAR
VERSION:2.0
PRODID:-//Furrin Group - ECPv6.15.20//NONSGML v1.0//EN
CALSCALE:GREGORIAN
METHOD:PUBLISH
X-WR-CALNAME:Furrin Group
X-ORIGINAL-URL:https://furrin.org
X-WR-CALDESC:Events for Furrin Group
REFRESH-INTERVAL;VALUE=DURATION:PT1H
X-Robots-Tag:noindex
X-PUBLISHED-TTL:PT1H
BEGIN:VTIMEZONE
TZID:America/New_York
BEGIN:DAYLIGHT
TZOFFSETFROM:-0500
TZOFFSETTO:-0400
TZNAME:EDT
DTSTART:20240310T070000
END:DAYLIGHT
BEGIN:STANDARD
TZOFFSETFROM:-0400
TZOFFSETTO:-0500
TZNAME:EST
DTSTART:20241103T060000
END:STANDARD
BEGIN:DAYLIGHT
TZOFFSETFROM:-0500
TZOFFSETTO:-0400
TZNAME:EDT
DTSTART:20250309T070000
END:DAYLIGHT
BEGIN:STANDARD
TZOFFSETFROM:-0400
TZOFFSETTO:-0500
TZNAME:EST
DTSTART:20251102T060000
END:STANDARD
BEGIN:DAYLIGHT
TZOFFSETFROM:-0500
TZOFFSETTO:-0400
TZNAME:EDT
DTSTART:20260308T070000
END:DAYLIGHT
BEGIN:STANDARD
TZOFFSETFROM:-0400
TZOFFSETTO:-0500
TZNAME:EST
DTSTART:20261101T060000
END:STANDARD
END:VTIMEZONE
BEGIN:VEVENT
DTSTART;TZID=America/New_York:20250809T070000
DTEND;TZID=America/New_York:20250809T180000
DTSTAMP:20260421T101218
CREATED:20250309T142852Z
LAST-MODIFIED:20250309T142852Z
UID:3142-1754722800-1754762400@furrin.org
SUMMARY:WSCC Autocross #1
DESCRIPTION:Autocross in Ludington\, MI
URL:https://furrin.org/event/wscc-autocross-1-2/
LOCATION:West Shore Community College\, 3000 N. Stiles Rd.\, Scottville\, MI\, 49454\, United States
CATEGORIES:Autocross
ORGANIZER;CN="Furrin Group":MAILTO:furringroup@gmail.com
END:VEVENT
BEGIN:VEVENT
DTSTART;TZID=America/New_York:20250810T070000
DTEND;TZID=America/New_York:20250810T180000
DTSTAMP:20260421T101218
CREATED:20250309T142853Z
LAST-MODIFIED:20250309T142853Z
UID:3143-1754809200-1754848800@furrin.org
SUMMARY:WSCC Autocross #2
DESCRIPTION:Autocross in Ludington\, MI
URL:https://furrin.org/event/wscc-autocross-2/
LOCATION:West Shore Community College\, 3000 N. Stiles Rd.\, Scottville\, MI\, 49454\, United States
CATEGORIES:Autocross
ORGANIZER;CN="Furrin Group":MAILTO:furringroup@gmail.com
END:VEVENT
BEGIN:VEVENT
DTSTART;TZID=America/New_York:20250815T000000
DTEND;TZID=America/New_York:20250817T000000
DTSTAMP:20260421T101218
CREATED:20250309T142852Z
LAST-MODIFIED:20250309T142852Z
UID:3141-1755216000-1755388800@furrin.org
SUMMARY:VSCDA Au Grattan
DESCRIPTION:Vintage Racing
URL:https://furrin.org/event/vscda-au-grattan-2/
LOCATION:Grattan Raceway\, 7201 Lessiter Rd\, Belding\, MI\, 48809\, United States
CATEGORIES:Road Racing
END:VEVENT
BEGIN:VEVENT
DTSTART;TZID=America/New_York:20250817T000000
DTEND;TZID=America/New_York:20250817T000000
DTSTAMP:20260421T101218
CREATED:20250309T142909Z
LAST-MODIFIED:20250309T142909Z
UID:3157-1755388800-1755388800@furrin.org
SUMMARY:SBR SCCA Autocross
DESCRIPTION:Autocross at Grissom
URL:https://furrin.org/event/sbr-scca-autocross-4/
LOCATION:IN
CATEGORIES:Autocross
ORGANIZER;CN="South Bend Region SCCA":MAILTO:Information@sbrscca.org
END:VEVENT
BEGIN:VEVENT
DTSTART;TZID=America/New_York:20250819T180000
DTEND;TZID=America/New_York:20250819T200000
DTSTAMP:20260421T101218
CREATED:20250731T011548Z
LAST-MODIFIED:20250731T011548Z
UID:3221-1755626400-1755633600@furrin.org
SUMMARY:FG Monthly General Meeting
DESCRIPTION:Monthly club meeting\, all are welcome to join us.
URL:https://furrin.org/event/fg-monthly-general-meeting/
LOCATION:Jackson Street Hall\, 921 Jackson St NW\, Grand Rapids\, MI\, 49504\, United States
CATEGORIES:Meeting
ATTACH;FMTTYPE=image/jpeg:https://furrin.org/wp-content/uploads/2025/07/504025093_10227029092303352_8216295785967905098_n.jpg
ORGANIZER;CN="Furrin Group":MAILTO:furringroup@gmail.com
END:VEVENT
BEGIN:VEVENT
DTSTART;TZID=America/New_York:20250823T080000
DTEND;TZID=America/New_York:20250824T170000
DTSTAMP:20260421T101218
CREATED:20250821T133623Z
LAST-MODIFIED:20250821T134218Z
UID:3252-1755936000-1756054800@furrin.org
SUMMARY:LSR SCCA Kinross August Autocross
DESCRIPTION:
URL:https://furrin.org/event/lsr-scca-kinross-august-autocross/
LOCATION:Chippewa County Airport\, S. Morris Rd and W. Marshall Rd\, Kinross\, MI\, 49784\, United States
CATEGORIES:Autocross
END:VEVENT
END:VCALENDAR